BEGIN:VCALENDAR
VERSION:2.0
CREATED:20260421T204020Z
PRODID:-//Evommune\, Inc./Equisolve Calendar v1.0//EN
METHOD:PUBLISH
BEGIN:VEVENT
UID:4735f1084e4322deb28379c9692503d4
DTSTAMP:20260422T123743Z
DTSTART:20260602T153000Z
DTEND:20260602T163000Z
SUMMARY:2026 Annual Meeting of Stockholders
DESCRIPTION:2026 Annual Meeting of Stockholders\nDate: Jun 2\, 2026 11:30 am EDT\nWebcast: https://central.virtualshareholdermeeting.com/vsm/web?pvskey=EVMN2026
END:VEVENT
END:VCALENDAR
